BEGIN:VCALENDAR
VERSION:2.0
PRODID:-//Inter Care | Providing Medical Aid for Africa | UK - ECPv6.15.17.1//NONSGML v1.0//EN
CALSCALE:GREGORIAN
METHOD:PUBLISH
X-ORIGINAL-URL:https://intercare.org.uk
X-WR-CALDESC:Events for Inter Care | Providing Medical Aid for Africa | UK
REFRESH-INTERVAL;VALUE=DURATION:PT1H
X-Robots-Tag:noindex
X-PUBLISHED-TTL:PT1H
BEGIN:VTIMEZONE
TZID:Europe/London
BEGIN:DAYLIGHT
TZOFFSETFROM:+0000
TZOFFSETTO:+0100
TZNAME:BST
DTSTART:20250330T010000
END:DAYLIGHT
BEGIN:STANDARD
TZOFFSETFROM:+0100
TZOFFSETTO:+0000
TZNAME:GMT
DTSTART:20251026T010000
END:STANDARD
BEGIN:DAYLIGHT
TZOFFSETFROM:+0000
TZOFFSETTO:+0100
TZNAME:BST
DTSTART:20260329T010000
END:DAYLIGHT
BEGIN:STANDARD
TZOFFSETFROM:+0100
TZOFFSETTO:+0000
TZNAME:GMT
DTSTART:20261025T010000
END:STANDARD
BEGIN:DAYLIGHT
TZOFFSETFROM:+0000
TZOFFSETTO:+0100
TZNAME:BST
DTSTART:20270328T010000
END:DAYLIGHT
BEGIN:STANDARD
TZOFFSETFROM:+0100
TZOFFSETTO:+0000
TZNAME:GMT
DTSTART:20271031T010000
END:STANDARD
END:VTIMEZONE
BEGIN:VEVENT
DTSTART;TZID=Europe/London:20260313T190000
DTEND;TZID=Europe/London:20260313T190000
DTSTAMP:20260423T162444
CREATED:20260120T122915Z
LAST-MODIFIED:20260203T092409Z
UID:7842-1773428400-1773428400@intercare.org.uk
SUMMARY:Inter Care's Ceilidh 2026!
DESCRIPTION:Come for the Craic\, stay to support medical aid in Africa! \nInter Care’s popular Ceilidh event is back for 2026 so come along and enjoy the amazing live Ceilidh band: ‘Turlough’\, for an evening of eating\, drinking and lots of dancing! \nWhere? Queniborough Village Hall (LE7 3DH) \nWhen? Friday13th March 2026 @7pm \nTicket Price? £20 per person (Ploughmans dinner included) \nDress code? Wear some green! \nDon’t forget to bring some cash on the night to be in with a chance of winning some great raffle prizes! \nHow Do I Book my tickets? \nClick the link below to book your place and make your donation: \nhttps://intercare.beaconforms.com/form/d57dee66 \nOR… \nContact us directly at fundraising@intercare.org.uk or call us on 0116 269 5925 \nWe are looking forward to enjoying a fun filled evening with you so get those dancing shoes ready!
URL:https://intercare.org.uk/event/inter-cares-ceilidh-2026/
END:VEVENT
END:VCALENDAR