BEGIN:VCALENDAR
VERSION:2.0
PRODID:-//Inter Care | Providing Medical Aid for Africa | UK - ECPv6.15.17.1//NONSGML v1.0//EN
CALSCALE:GREGORIAN
METHOD:PUBLISH
X-WR-CALNAME:Inter Care | Providing Medical Aid for Africa | UK
X-ORIGINAL-URL:https://intercare.org.uk
X-WR-CALDESC:Events for Inter Care | Providing Medical Aid for Africa | UK
REFRESH-INTERVAL;VALUE=DURATION:PT1H
X-Robots-Tag:noindex
X-PUBLISHED-TTL:PT1H
BEGIN:VTIMEZONE
TZID:Europe/London
BEGIN:DAYLIGHT
TZOFFSETFROM:+0000
TZOFFSETTO:+0100
TZNAME:BST
DTSTART:20210328T010000
END:DAYLIGHT
BEGIN:STANDARD
TZOFFSETFROM:+0100
TZOFFSETTO:+0000
TZNAME:GMT
DTSTART:20211031T010000
END:STANDARD
BEGIN:DAYLIGHT
TZOFFSETFROM:+0000
TZOFFSETTO:+0100
TZNAME:BST
DTSTART:20220327T010000
END:DAYLIGHT
BEGIN:STANDARD
TZOFFSETFROM:+0100
TZOFFSETTO:+0000
TZNAME:GMT
DTSTART:20221030T010000
END:STANDARD
BEGIN:DAYLIGHT
TZOFFSETFROM:+0000
TZOFFSETTO:+0100
TZNAME:BST
DTSTART:20230326T010000
END:DAYLIGHT
BEGIN:STANDARD
TZOFFSETFROM:+0100
TZOFFSETTO:+0000
TZNAME:GMT
DTSTART:20231029T010000
END:STANDARD
BEGIN:DAYLIGHT
TZOFFSETFROM:+0000
TZOFFSETTO:+0100
TZNAME:BST
DTSTART:20240331T010000
END:DAYLIGHT
BEGIN:STANDARD
TZOFFSETFROM:+0100
TZOFFSETTO:+0000
TZNAME:GMT
DTSTART:20241027T010000
END:STANDARD
BEGIN:DAYLIGHT
TZOFFSETFROM:+0000
TZOFFSETTO:+0100
TZNAME:BST
DTSTART:20250330T010000
END:DAYLIGHT
BEGIN:STANDARD
TZOFFSETFROM:+0100
TZOFFSETTO:+0000
TZNAME:GMT
DTSTART:20251026T010000
END:STANDARD
BEGIN:DAYLIGHT
TZOFFSETFROM:+0000
TZOFFSETTO:+0100
TZNAME:BST
DTSTART:20260329T010000
END:DAYLIGHT
BEGIN:STANDARD
TZOFFSETFROM:+0100
TZOFFSETTO:+0000
TZNAME:GMT
DTSTART:20261025T010000
END:STANDARD
BEGIN:DAYLIGHT
TZOFFSETFROM:+0000
TZOFFSETTO:+0100
TZNAME:BST
DTSTART:20270328T010000
END:DAYLIGHT
BEGIN:STANDARD
TZOFFSETFROM:+0100
TZOFFSETTO:+0000
TZNAME:GMT
DTSTART:20271031T010000
END:STANDARD
END:VTIMEZONE
BEGIN:VEVENT
DTSTART;TZID=Europe/London:20260313T190000
DTEND;TZID=Europe/London:20260313T190000
DTSTAMP:20260423T133800
CREATED:20260120T122915Z
LAST-MODIFIED:20260203T092409Z
UID:7842-1773428400-1773428400@intercare.org.uk
SUMMARY:Inter Care's Ceilidh 2026!
DESCRIPTION:Come for the Craic\, stay to support medical aid in Africa! \nInter Care’s popular Ceilidh event is back for 2026 so come along and enjoy the amazing live Ceilidh band: ‘Turlough’\, for an evening of eating\, drinking and lots of dancing! \nWhere? Queniborough Village Hall (LE7 3DH) \nWhen? Friday13th March 2026 @7pm \nTicket Price? £20 per person (Ploughmans dinner included) \nDress code? Wear some green! \nDon’t forget to bring some cash on the night to be in with a chance of winning some great raffle prizes! \nHow Do I Book my tickets? \nClick the link below to book your place and make your donation: \nhttps://intercare.beaconforms.com/form/d57dee66 \nOR… \nContact us directly at fundraising@intercare.org.uk or call us on 0116 269 5925 \nWe are looking forward to enjoying a fun filled evening with you so get those dancing shoes ready!
URL:https://intercare.org.uk/event/inter-cares-ceilidh-2026/
END:VEVENT
BEGIN:VEVENT
DTSTART;TZID=Europe/London:20260203T190000
DTEND;TZID=Europe/London:20260203T190000
DTSTAMP:20260423T133800
CREATED:20260115T112232Z
LAST-MODIFIED:20260115T112701Z
UID:7837-1770145200-1770145200@intercare.org.uk
SUMMARY:Inter Care's Curry Night is Back for 2026!
DESCRIPTION:If you are based in Leicestershire\, why not join us for an all-you-can-eat buffet and enjoy a fun-filled evening while supporting a great cause. It’s just £20 per person\, and 50% of the ticket price goes towards helping us provide essential medical aid in sub-Saharan Africa. \nDate: 3rd February 2026 at 7pm \nLocation: Chef and Spice\, Leicester (LE3 5PG) \nBook your spot now and don’t miss out on a night of amazing food\, fun and company! \nJust follow the link below ↓ \nhttps://intercare.beaconforms.com/form/efd798b4 \n \n 
URL:https://intercare.org.uk/event/inter-cares-curry-night-is-back-for-2026/
LOCATION:Chef & Spice\, 1 ANDREWES STREET\, Leicester\, LE3 5PG\, United Kingdom
ORGANIZER;CN="Inter Care":MAILTO:info@intercare.org.uk
GEO:52.6314537;-1.1493306
X-APPLE-STRUCTURED-LOCATION;VALUE=URI;X-ADDRESS=Chef & Spice 1 ANDREWES STREET Leicester LE3 5PG United Kingdom;X-APPLE-RADIUS=500;X-TITLE=1 ANDREWES STREET:geo:-1.1493306,52.6314537
END:VEVENT
BEGIN:VEVENT
DTSTART;TZID=Europe/London:20251106T190000
DTEND;TZID=Europe/London:20251106T190000
DTSTAMP:20260423T133800
CREATED:20250917T103015Z
LAST-MODIFIED:20250917T110026Z
UID:7740-1762455600-1762455600@intercare.org.uk
SUMMARY:Bonfire Bingo Night
DESCRIPTION:  \n🎉 Bonfire Bingo Night – Join the Fun! 🎉 \nGet ready for a sizzling evening of games\, food\, and fundraising at Anstey Nomads FC on Thursday\, 6 November at 7PM! We’re hosting a lively Bonfire Bingo Night to support InterCare – Medical Aid for Africa. \n🎟️ Tickets: £12.50 – includes your choice of burger\, hot dog\, or a vegetarian option. 📍 Location: Cropston Rd.\, Anstey\, Leicester\, LE7 7BP \n📞 Book now via 0116 269 5925 or info@intercare.org.uk \nCome for the bingo\, stay for the cause. Let’s light up the night for a brighter future! 🔥✨ \n  \n  \n 
URL:https://intercare.org.uk/event/bonfire-bingo-night/
LOCATION:Anstey Nomads Fc\, Cropston Road\, Anstey\, Leicester\, LE7 7BP\, United Kingdom
ORGANIZER;CN="Inter Care":MAILTO:info@intercare.org.uk
GEO:52.6740289;-1.1829576
X-APPLE-STRUCTURED-LOCATION;VALUE=URI;X-ADDRESS=Anstey Nomads Fc Cropston Road Anstey Leicester LE7 7BP United Kingdom;X-APPLE-RADIUS=500;X-TITLE=Cropston Road:geo:-1.1829576,52.6740289
END:VEVENT
BEGIN:VEVENT
DTSTART;TZID=Europe/London:20250625T180000
DTEND;TZID=Europe/London:20250625T210000
DTSTAMP:20260423T133800
CREATED:20250428T075822Z
LAST-MODIFIED:20250625T123102Z
UID:7693-1750874400-1750885200@intercare.org.uk
SUMMARY:Treasure Hunt 2025
DESCRIPTION:Our Treasure Hunt Event is back and better than ever\, promising a fun and sociable challenge filled with excitement and mystery. Followed by a 2 course meal at the Curzon Arms\, 44 Maplewell Road\, woodhouse Eaves\, LE12 8QZ. \nSOLD OUT!
URL:https://intercare.org.uk/event/treasure-hunt-2025/
LOCATION:The Curzon Arms\, 44 Maplewell Road\, Woodhouse Eaves\, LE12 8QZ\, United Kingdom
ORGANIZER;CN="Inter Care":MAILTO:info@intercare.org.uk
GEO:52.7219754;-1.2183193
X-APPLE-STRUCTURED-LOCATION;VALUE=URI;X-ADDRESS=The Curzon Arms 44 Maplewell Road Woodhouse Eaves LE12 8QZ United Kingdom;X-APPLE-RADIUS=500;X-TITLE=44 Maplewell Road:geo:-1.2183193,52.7219754
END:VEVENT
BEGIN:VEVENT
DTSTART;TZID=Europe/London:20250308T193000
DTEND;TZID=Europe/London:20250308T220000
DTSTAMP:20260423T133800
CREATED:20240416T110815Z
LAST-MODIFIED:20250213T182328Z
UID:7269-1741462200-1741471200@intercare.org.uk
SUMMARY:St Patrick's Day Ceilidh at Rothley Centre\, Leicester
DESCRIPTION:One of our volunteers John Winter plays guitar in a local Irish folk band. The band\, Turlough\, are helping us to raise funds for Inter Care by leading a Ceilidh at The Rothley Centre. \nIt is on Saturday 8th March\, starting at 7.30 p.m. Tickets are only £12\, and that includes nibbles!  \nTHIS EVENT IS NOW SOLD OUT – Please contact info@intercare.org.uk for more information \n \n 
URL:https://intercare.org.uk/event/ceilidh2025/
LOCATION:The Rothley Centre\, 12 Mountsorrel Lane\, Rothley\, Leicestershire\, LE7 7PR\, United Kingdom
ORGANIZER;CN="Inter Care":MAILTO:info@intercare.org.uk
GEO:52.710578;-1.1373178
X-APPLE-STRUCTURED-LOCATION;VALUE=URI;X-ADDRESS=The Rothley Centre 12 Mountsorrel Lane Rothley Leicestershire LE7 7PR United Kingdom;X-APPLE-RADIUS=500;X-TITLE=12 Mountsorrel Lane:geo:-1.1373178,52.710578
END:VEVENT
BEGIN:VEVENT
DTSTART;TZID=Europe/London:20250129T190000
DTEND;TZID=Europe/London:20250129T220000
DTSTAMP:20260423T133800
CREATED:20241205T082859Z
LAST-MODIFIED:20241209T154830Z
UID:7589-1738177200-1738188000@intercare.org.uk
SUMMARY:Charity Pub Quiz 2025
DESCRIPTION:Charity Pub Quiz Night\n  \nJoin us on Wednesday 29th January 2025 for our popular pub quiz at The Queen Victoria Pub\, Syston\, Leicester\, LE7 1GQ. Hosted by one of Inter Care’s dedicated volunteer with experience of hosting quiz events. \nThe quiz starts at 7:00 pm so please arrive by 6:45 pm. The quiz will include several rounds of fun topics including a picture round and current and past trends. We require teams of 4 to play in the quiz.  The price is £6 per person and this includes a sandwich buffet. \nParticipants are welcome to buy drinks at the bar and are able to take part in our raffle. There will be prizes for the top 2 teams. \nRegister and pay here\nBy participating in this event you are helping vulnerable patients across Sub-Saharan Africa access medical aid free of charge.
URL:https://intercare.org.uk/event/charity-pub-quiz-2025/
LOCATION:The Queen Victoria\, 76 High Street\, Leicester\, Leicestershire\, LE7 1GQ\, United Kingdom
END:VEVENT
BEGIN:VEVENT
DTSTART;TZID=Europe/London:20241119T190000
DTEND;TZID=Europe/London:20241119T220000
DTSTAMP:20260423T133800
CREATED:20231109T153628Z
LAST-MODIFIED:20241007T092257Z
UID:7013-1732042800-1732053600@intercare.org.uk
SUMMARY:Inter Care Curry Night 2024 - Chef and Spice Leicester
DESCRIPTION:***SOLD OUT***\nOur popular curry night is back for another fun evening with friends and family this November! Book a table with us now to not be disappointed as places go quickly. Just £20 per person (50% of every ticket goes to Inter Care).\nWorld Buffet \n\nSalad bar\nA wide choice of Asian\, Chinese and British food\nPopadoms with pickles\nDosa (spicy pancakes)\nTandoori oven\, naan bread\nStir fry noodle bar\nMain courses buffet bar\nTeppanyaki hot griddle\nPizza\nA great range of desserts and ice creams featuring a chocolate fountain\n\nLast year we have raised a huge £1\,277.63!               CLICK HERE TO BE ADDED TO OUR WAITING LIST\n  \n  \n 
URL:https://intercare.org.uk/event/curry-night-intercare/
LOCATION:Chef & Spice\, 1 ANDREWES STREET\, Leicester\, LE3 5PG\, United Kingdom
ORGANIZER;CN="Inter Care":MAILTO:info@intercare.org.uk
GEO:52.6314537;-1.1493306
X-APPLE-STRUCTURED-LOCATION;VALUE=URI;X-ADDRESS=Chef & Spice 1 ANDREWES STREET Leicester LE3 5PG United Kingdom;X-APPLE-RADIUS=500;X-TITLE=1 ANDREWES STREET:geo:-1.1493306,52.6314537
END:VEVENT
BEGIN:VEVENT
DTSTART;TZID=Europe/London:20231107T190000
DTEND;TZID=Europe/London:20231107T220000
DTSTAMP:20260423T133800
CREATED:20230719T114053Z
LAST-MODIFIED:20231006T101911Z
UID:6923-1699383600-1699394400@intercare.org.uk
SUMMARY:Quiz Night 2023
DESCRIPTION:Charity Pub Quiz Night\nTuesday 7th November 7pm at Queen Victoria Pub in Syston. \nTeams of 4 needed! Register now – REGISTRATION PAGE \n£6 per person which includes entry fee and sandwich buffet.  \nBy participating\, you are helping vulnerable people across sub-Saharan Africa access medical aid free of charge.  \nDownload poster
URL:https://intercare.org.uk/event/quiz-night-2023/
LOCATION:The Queen Victoria\, 76 High Street\, Leicester\, Leicestershire\, LE7 1GQ\, United Kingdom
ATTACH;FMTTYPE=image/png:https://intercare.org.uk/wp-content/uploads/2023/07/Quiz-Night-2023-e1689765444812.png
ORGANIZER;CN="Claudia Coxon - Community and Events Fundraiser":MAILTO:fundraising@intercare.org.uk
END:VEVENT
BEGIN:VEVENT
DTSTART;TZID=Europe/London:20230621T183000
DTEND;TZID=Europe/London:20230621T223000
DTSTAMP:20260423T133800
CREATED:20230510T103952Z
LAST-MODIFIED:20230510T123654Z
UID:6683-1687372200-1687386600@intercare.org.uk
SUMMARY:Treasure Hunt 2023
DESCRIPTION:A fun and sociable challenge in the heart of Clarendon Park \nREGISTER AND DONATE HERE – DEADLINE MONDAY 5TH JUNE 2023 \n \nREGISTER AND DONATE HERE – DEADLINE MONDAY 5TH JUNE 2023\n 
URL:https://intercare.org.uk/event/treasure-hunt-2023/
LOCATION:The Old Horse Pub\, 198 London Road\, Leicester\, LE2 1NE\, United Kingdom
ATTACH;FMTTYPE=image/png:https://intercare.org.uk/wp-content/uploads/2023/05/Treasure-Hunt-2023-SM-post-.png
ORGANIZER;CN="Inter Care":MAILTO:info@intercare.org.uk
GEO:52.6246051;-1.1156629
X-APPLE-STRUCTURED-LOCATION;VALUE=URI;X-ADDRESS=The Old Horse Pub 198 London Road Leicester LE2 1NE United Kingdom;X-APPLE-RADIUS=500;X-TITLE=198 London Road:geo:-1.1156629,52.6246051
END:VEVENT
BEGIN:VEVENT
DTSTART;VALUE=DATE:20230312
DTEND;VALUE=DATE:20230313
DTSTAMP:20260423T133800
CREATED:20230208T120859Z
LAST-MODIFIED:20230303T102748Z
UID:6482-1678579200-1678665599@intercare.org.uk
SUMMARY:Sponsored Walk - In Collaboration with LACY
DESCRIPTION:Inter Care provide free access to medical aid for vulnerable patients across sub-Saharan Africa.\nLACY is a group providing a space for the Catholic Youth in Leicester to come together in Faith. \nTogether\, they are walking to raise vital funds to send medical supplies to Africa. \nJOIN US ON OUR WALK TO SAVE LIVES IN AFRICA\nFOLLOWED BY YOUTH MASS AT ST THOMAS MORE CHURCH\n  \nOUR COMMUNITY AND EVENTS FUNDRAISER WILL BE TAKING PART AND WILL BE ATTEMPTING TO RUN 10 LAPS (6 miles) OF THE PARK \nSPONSOR CLAUDIA DOMIN HERE\n  \nDownload Sponsor Form \n 
URL:https://intercare.org.uk/event/sponsored-walk-in-collaboration-with-lacy/
LOCATION:knighton park\, Palmerston Way\, Leicester\, LE2 3RE
ATTACH;FMTTYPE=image/png:https://intercare.org.uk/wp-content/uploads/2023/02/Sponsored-Walk-Facebook-Cover.png
GEO:52.6028265;-1.1055549
X-APPLE-STRUCTURED-LOCATION;VALUE=URI;X-ADDRESS=knighton park Palmerston Way Leicester LE2 3RE;X-APPLE-RADIUS=500;X-TITLE=Palmerston Way:geo:-1.1055549,52.6028265
END:VEVENT
BEGIN:VEVENT
DTSTART;TZID=Europe/London:20230303T190000
DTEND;TZID=Europe/London:20230303T223000
DTSTAMP:20260423T133800
CREATED:20220818T144557Z
LAST-MODIFIED:20230111T115557Z
UID:6187-1677870000-1677882600@intercare.org.uk
SUMMARY:Ceilidh 2023
DESCRIPTION:Take part in our fun and lively Ceilidh Event which raises over £2\,000 each year!!\nThere will be a bar for donations and you can bring your own snacks with you.  \nDonate to take part (suggested donation £12 per person. £5 for Children 12 and under)- deadline Friday 17th February 2023.  \nCLICK HERE TO DONATE AND RESERVE YOUR PLACE\nDownload event flyer\n  \n 
URL:https://intercare.org.uk/event/ceilidh2023/
LOCATION:The Rothley Centre\, 12 Mountsorrel Lane\, Rothley\, Leicestershire\, LE7 7PR\, United Kingdom
ATTACH;FMTTYPE=image/jpeg:https://intercare.org.uk/wp-content/uploads/2022/08/Dancing-6-scaled.jpg
GEO:52.710578;-1.1373178
X-APPLE-STRUCTURED-LOCATION;VALUE=URI;X-ADDRESS=The Rothley Centre 12 Mountsorrel Lane Rothley Leicestershire LE7 7PR United Kingdom;X-APPLE-RADIUS=500;X-TITLE=12 Mountsorrel Lane:geo:-1.1373178,52.710578
END:VEVENT
BEGIN:VEVENT
DTSTART;TZID=Europe/London:20230207T190000
DTEND;TZID=Europe/London:20230207T210000
DTSTAMP:20260423T133800
CREATED:20221219T100651Z
LAST-MODIFIED:20230202T120403Z
UID:6438-1675796400-1675803600@intercare.org.uk
SUMMARY:Online Quiz 2023
DESCRIPTION:Join us on Zoom for our annual Online Quiz!\nREGISTER AND DONATE £5 (suggested donation)! \nThe Zoom link will be sent to you the day before the event starts. You will also receive an answer sheet. \nDOWNLOAD EVENT FLYER\nJoin Zoom Meeting \nhttps://us06web.zoom.us/j/85036896957?pwd=T3psMjFLWGkzcjBndk1mTjlTNUg2Zz09\nMeeting ID: 850 3689 6957 \nPasscode: ICQuiz23
URL:https://intercare.org.uk/event/quiz2023/
ATTACH;FMTTYPE=image/png:https://intercare.org.uk/wp-content/uploads/2022/12/Online-Quiz-2023-SM-POST.png
END:VEVENT
BEGIN:VEVENT
DTSTART;VALUE=DATE:20220911
DTEND;VALUE=DATE:20220912
DTSTAMP:20260423T133800
CREATED:20220315T111313Z
LAST-MODIFIED:20220315T111704Z
UID:5991-1662854400-1662940799@intercare.org.uk
SUMMARY:Great North Run 2022
DESCRIPTION:Join team Inter Care in the biggest and best half marathon in the world!\nStarting in Newcastle upon Tyne\, the 13.1 mile route will take you over the Tyne Bridge and will finish in South Shields. Join thousands in the fun event where bands and supporters will be lined up to guarantee a fun day that you will remember fondly.\n\nEVENT DETAILS\n\nWhen: Sunday 11th September 2022\nWhere: Newcastle to South Shields\nRegistration Fee: £50\nFundraising Target: £300\n\n\nREGISTRATION\n\nTo register\, please complete the booking form here to guarantee your place (payment details included in the form).\nYou will then receive an email from the Great North Run asking you to enter your details online and complete their terms and conditions.\nA token will then be sent to you via the Great North Run. You will then be able to select a time to participate in the event.\n\n\nSPONSORSHIP\nYou can set up your very own Just Giving page so that friends\, family\, and colleagues can sponsor you online. You will also be able to add pictures and update your blog on how your training is going to encourage more donations. \n\nInter Care will be behind you all the way!\n\nWe will provide any help or advice you might need to help maximise your fundraising\nDedicated point of contact in the Events Team (Claudia Coxon fundraising@intercare.org.uk)\nYou will get your very own Inter Care T-Shirt
URL:https://intercare.org.uk/event/gnr2022/
LOCATION:Newcastle\, Tyne Bridge\, A167\, Newcastle upon Tyne\, NE8 2BH
ATTACH;FMTTYPE=image/png:https://intercare.org.uk/wp-content/uploads/2022/03/run-for-INTER-CARE-AT-THE-GREAT-NORTH-RUN-2022.png
END:VEVENT
BEGIN:VEVENT
DTSTART;TZID=Europe/London:20220614T183000
DTEND;TZID=Europe/London:20220614T220000
DTSTAMP:20260423T133800
CREATED:20220505T141907Z
LAST-MODIFIED:20220505T145358Z
UID:6096-1655231400-1655244000@intercare.org.uk
SUMMARY:Treasure Hunt 2022
DESCRIPTION:This event is special and unique. It welcomes dog walkers\, treasure hunt enthusiasts and more! The Treasure Hunt is around 90 minutes and will have you looking for clues on houses\, signposts and more.\nThe hunt will then end with a lovely two course meal at The Manor House in Quorn.\nTo book\, please fill in the booking form below. For a downloadable booking form click here: Treasure Hunt Booking Form\nWe look forward to seeing you there. For more details\, please contact fundraising@intercare.org.uk\n  \n\n\n  \n\n\n\nTreasure Hunt\, 6.30pm\n \nYour name (required)\n \n\n \nYour Email (required)\n \n\n \nContact Number (home/mobile)\n \n\n \nI would like to reserve:\n \nNumber of places: \n \nThank you for your booking.\n \n\n \n\n\n\n 
URL:https://intercare.org.uk/event/treasure-hunt-2022/
LOCATION:quorn\, The Manor House\, Quorn\, le12 8al\, United Kingdom
ATTACH;FMTTYPE=image/png:https://intercare.org.uk/wp-content/uploads/2022/05/Treasure-Hunt-2022-SM-POST.png
ORGANIZER;CN="Claudia Coxon - Community and Events Fundraiser":MAILTO:fundraising@intercare.org.uk
GEO:52.7414397;-1.1864615
X-APPLE-STRUCTURED-LOCATION;VALUE=URI;X-ADDRESS=quorn The Manor House Quorn le12 8al United Kingdom;X-APPLE-RADIUS=500;X-TITLE=The Manor House:geo:-1.1864615,52.7414397
END:VEVENT
BEGIN:VEVENT
DTSTART;TZID=Europe/London:20220329T190000
DTEND;TZID=Europe/London:20220329T220000
DTSTAMP:20260423T133800
CREATED:20200131T153504Z
LAST-MODIFIED:20220315T142400Z
UID:2936-1648580400-1648591200@intercare.org.uk
SUMMARY:Curry Night Fundraiser
DESCRIPTION:Join us for an all-you-can-eat-buffet\, raffle\, and fun! This annual event is always so enjoyable! \n\nDate: Tuesday 29th March at 7pm\nPlace: Chef and Spice Restaurant\, 1 Andrewes Street\, Leicester LE3 5PG\nTickets: £15 per person.\n\nPurchase your tickets now by bank transfer – email Claudia Coxon for payment details fundraising@intercare.org.uk\n\nTo save your place fill in this form:\n\n\n  \n\n\n\nCurry Night 2022\, 7.00pm\n \nYour name (required)\n \n\n \nYour Email (required)\n \n\n \nContact Number (home/mobile)\n \n\n \nI would like to reserve:\n \nNumber of places: \n \nThank you for your booking.\n \n\n \n\n\n\nIf you have any problem sending your booking form to us\, please make your reservation by contacting Claudia Coxon (Fundraiser) via fundraising@intercare.org.uk \n  \n  \n  \n 
URL:https://intercare.org.uk/event/currynight2022/
LOCATION:Chef & Spice\, 1 ANDREWES STREET\, Leicester\, LE3 5PG\, United Kingdom
ATTACH;FMTTYPE=image/png:https://intercare.org.uk/wp-content/uploads/2020/01/EVENTS-MASTER-COPY-e1647352152732.png
ORGANIZER;CN="Claudia Coxon - Community and Events Fundraiser":MAILTO:fundraising@intercare.org.uk
GEO:52.6314537;-1.1493306
X-APPLE-STRUCTURED-LOCATION;VALUE=URI;X-ADDRESS=Chef & Spice 1 ANDREWES STREET Leicester LE3 5PG United Kingdom;X-APPLE-RADIUS=500;X-TITLE=1 ANDREWES STREET:geo:-1.1493306,52.6314537
END:VEVENT
END:VCALENDAR