BEGIN:VCALENDAR
VERSION:2.0
PRODID:-//Inter Care | Providing Medical Aid for Africa | UK - ECPv6.15.17.1//NONSGML v1.0//EN
CALSCALE:GREGORIAN
METHOD:PUBLISH
X-ORIGINAL-URL:https://intercare.org.uk
X-WR-CALDESC:Events for Inter Care | Providing Medical Aid for Africa | UK
REFRESH-INTERVAL;VALUE=DURATION:PT1H
X-Robots-Tag:noindex
X-PUBLISHED-TTL:PT1H
BEGIN:VTIMEZONE
TZID:Europe/London
BEGIN:DAYLIGHT
TZOFFSETFROM:+0000
TZOFFSETTO:+0100
TZNAME:BST
DTSTART:20250330T010000
END:DAYLIGHT
BEGIN:STANDARD
TZOFFSETFROM:+0100
TZOFFSETTO:+0000
TZNAME:GMT
DTSTART:20251026T010000
END:STANDARD
BEGIN:DAYLIGHT
TZOFFSETFROM:+0000
TZOFFSETTO:+0100
TZNAME:BST
DTSTART:20260329T010000
END:DAYLIGHT
BEGIN:STANDARD
TZOFFSETFROM:+0100
TZOFFSETTO:+0000
TZNAME:GMT
DTSTART:20261025T010000
END:STANDARD
BEGIN:DAYLIGHT
TZOFFSETFROM:+0000
TZOFFSETTO:+0100
TZNAME:BST
DTSTART:20270328T010000
END:DAYLIGHT
BEGIN:STANDARD
TZOFFSETFROM:+0100
TZOFFSETTO:+0000
TZNAME:GMT
DTSTART:20271031T010000
END:STANDARD
END:VTIMEZONE
BEGIN:VEVENT
DTSTART;TZID=Europe/London:20260203T190000
DTEND;TZID=Europe/London:20260203T190000
DTSTAMP:20260423T163131
CREATED:20260115T112232Z
LAST-MODIFIED:20260115T112701Z
UID:7837-1770145200-1770145200@intercare.org.uk
SUMMARY:Inter Care's Curry Night is Back for 2026!
DESCRIPTION:If you are based in Leicestershire\, why not join us for an all-you-can-eat buffet and enjoy a fun-filled evening while supporting a great cause. It’s just £20 per person\, and 50% of the ticket price goes towards helping us provide essential medical aid in sub-Saharan Africa. \nDate: 3rd February 2026 at 7pm \nLocation: Chef and Spice\, Leicester (LE3 5PG) \nBook your spot now and don’t miss out on a night of amazing food\, fun and company! \nJust follow the link below ↓ \nhttps://intercare.beaconforms.com/form/efd798b4 \n \n 
URL:https://intercare.org.uk/event/inter-cares-curry-night-is-back-for-2026/
LOCATION:Chef & Spice\, 1 ANDREWES STREET\, Leicester\, LE3 5PG\, United Kingdom
ORGANIZER;CN="Inter Care":MAILTO:info@intercare.org.uk
GEO:52.6314537;-1.1493306
X-APPLE-STRUCTURED-LOCATION;VALUE=URI;X-ADDRESS=Chef & Spice 1 ANDREWES STREET Leicester LE3 5PG United Kingdom;X-APPLE-RADIUS=500;X-TITLE=1 ANDREWES STREET:geo:-1.1493306,52.6314537
END:VEVENT
END:VCALENDAR